BEGIN:VCALENDAR
VERSION:2.0
PRODID:-//Intand Corporation//Tandem//EN
METHOD:PUBLISH
BEGIN:VEVENT
DTSTAMP:20260423T113515Z
DTSTART:20260506T230000Z
DTEND:20260507T020000Z
TRANSP:TRANSPARENT
PRIORITY:0
SUMMARY:Cheer Tryouts Mat Room
LOCATION:Sehome Gym Mat Room
DESCRIPTION:Schools:\nSehome High School\n\nLocation:\nSehome Gym Mat Room
 \n\n
URL;VALUE=URI:https://calendar.bellinghamschools.org/index.php?type=view&a
 ction=event&id=348920
CREATED:20260422T153540Z
LAST-MODIFIED:20260422T153540Z
UID:event-348920-bham@intand.com
END:VEVENT
END:VCALENDAR
