BEGIN:VCALENDAR
VERSION:2.0
PRODID:-//Intand Corporation//Tandem//EN
METHOD:PUBLISH
BEGIN:VEVENT
DTSTAMP:20260422T141755Z
DTSTART:20260515T143000Z
DTEND:20260516T003000Z
TRANSP:TRANSPARENT
PRIORITY:0
SUMMARY:YMCA Purple Friday Childcare
LOCATION:Lowell Cafeteria\, Cordata Cafeteria
DESCRIPTION:Groups:\nYMCA\n\nSchools:\nCordata Elementary School\nLowell E
 lementary School\n\nLocations:\nLowell Cafeteria\nCordata Cafeteria\n\n
URL;VALUE=URI:https://calendar.bellinghamschools.org/index.php?type=view&a
 ction=event&id=348901
CREATED:20260421T211141Z
LAST-MODIFIED:20260421T211141Z
UID:facility_rental-348901-bham@intand.com
END:VEVENT
END:VCALENDAR
