BEGIN:VCALENDAR
VERSION:2.0
PRODID:-//Intand Corporation//Tandem//EN
METHOD:PUBLISH
BEGIN:VEVENT
DTSTAMP:20260422T141937Z
DTSTART:20260423T163000Z
DTEND:20260423T174500Z
TRANSP:TRANSPARENT
PRIORITY:0
SUMMARY:5th Graders to visit WMS
LOCATION:Parkview Offsite Event
DESCRIPTION:Schools:\nParkview Elementary School\n\nLocation:\nParkview Of
 fsite Event\n\n
URL;VALUE=URI:https://calendar.bellinghamschools.org/index.php?type=view&a
 ction=event&id=348891
CREATED:20260421T185516Z
LAST-MODIFIED:20260421T185516Z
UID:event-348891-bham@intand.com
END:VEVENT
END:VCALENDAR
