BEGIN:VCALENDAR
VERSION:2.0
PRODID:-//Intand Corporation//Tandem//EN
METHOD:PUBLISH
BEGIN:VEVENT
DTSTAMP:20260422T142045Z
DTSTART:20260504T154500Z
DTEND:20260504T171500Z
TRANSP:TRANSPARENT
PRIORITY:0
SUMMARY:Ms. K's Class - Whatcom Museum
LOCATION:Parkview Offsite Event
DESCRIPTION:Schools:\nParkview Elementary School\n\nLocation:\nParkview Of
 fsite Event\n\n
URL;VALUE=URI:https://calendar.bellinghamschools.org/index.php?type=view&a
 ction=event&id=348890
CREATED:20260421T185346Z
LAST-MODIFIED:20260421T185346Z
UID:event-348890-bham@intand.com
END:VEVENT
END:VCALENDAR
