BEGIN:VCALENDAR
VERSION:2.0
PRODID:-//Intand Corporation//Tandem//EN
METHOD:PUBLISH
BEGIN:VEVENT
DTSTAMP:20260421T120132Z
DTSTART:20260429T020000Z
DTEND:20260429T040000Z
TRANSP:TRANSPARENT
PRIORITY:0
SUMMARY:Whatcom Prep Practice
LOCATION:Bellingham Baseball Field
DESCRIPTION:Groups:\nWhatcom Prep Baseball Association\n\nSchools:\nBellin
 gham High School\n\nLocation:\nBellingham Baseball Field\n\n
URL;VALUE=URI:https://calendar.bellinghamschools.org/index.php?type=view&a
 ction=event&id=348848
CREATED:20260420T211405Z
LAST-MODIFIED:20260420T211405Z
UID:facility_rental-348848-bham@intand.com
END:VEVENT
END:VCALENDAR
