BEGIN:VCALENDAR
VERSION:2.0
PRODID:-//Intand Corporation//Tandem//EN
METHOD:PUBLISH
BEGIN:VEVENT
DTSTAMP:20260421T115749Z
DTSTART:20260416T200000Z
DTEND:20260416T202000Z
TRANSP:TRANSPARENT
PRIORITY:0
SUMMARY:CO: Soccer
LOCATION:Columbia South Gym
DESCRIPTION:Groups:\nEnrichment Class - Columbia\n\nSchools:\nColumbia Ele
 mentary School\n\nLocation:\nColumbia South Gym\n\n
URL;VALUE=URI:https://calendar.bellinghamschools.org/index.php?type=view&a
 ction=event&id=348802
CREATED:20260420T174432Z
LAST-MODIFIED:20260420T174432Z
UID:event-348802-bham@intand.com
END:VEVENT
END:VCALENDAR
