BEGIN:VCALENDAR
VERSION:2.0
PRODID:-//Intand Corporation//Tandem//EN
METHOD:PUBLISH
BEGIN:VEVENT
DTSTAMP:20260421T115750Z
DTSTART:20260429T000000Z
DTEND:20260429T050000Z
TRANSP:TRANSPARENT
PRIORITY:0
SUMMARY:Dine Out for Car Cozier - Sweet As Waffles
LOCATION:Carl Cozier Offsite Event
DESCRIPTION:Take a night off from cooking and dishes\, join Carl Cozier PT
 A for a fun\, "breakfast for dinner" Dine Out fundraiser. Tuesday\, April 
 28th\, Sweet As Waffles is hosting our next dine out night. Located downto
 wn\, with outdoor seating\, delicious waffles\, and tiny dinosaurs on ever
 y waffle\, it is a family date night waiting to happen! \n\n\nSchools:\nCa
 rl Cozier Elementary School\n\nLocation:\nCarl Cozier Offsite Event\n\n
X-ALT-DESC;FMTTYPE=text/html:<!doctype html><html><body><span>Take a night
  off from cooking and dishes\, join Carl Cozier PTA for a fun\, "breakfast
  for dinner" Dine Out fundraiser. Tuesday\, April 28th\, </span><strong><e
 m>Sweet As Waffles</em></strong><span> is hosting our next dine out night.
  Located downtown\, with outdoor seating\, delicious waffles\, and tiny di
 nosaurs on every waffle\, it is a family date night waiting to happen! </s
 pan><br /><br />Schools:<br />Carl Cozier Elementary School<br /><br />Loc
 ation:<br />Carl Cozier Offsite Event<br /></body></html>
URL;VALUE=URI:https://calendar.bellinghamschools.org/index.php?type=view&a
 ction=event&id=348784
CREATED:20260420T173759Z
LAST-MODIFIED:20260420T173759Z
UID:event-348784-bham@intand.com
END:VEVENT
END:VCALENDAR
