BEGIN:VCALENDAR
VERSION:2.0
PRODID:-//Intand Corporation//Tandem//EN
METHOD:PUBLISH
BEGIN:VEVENT
DTSTAMP:20260421T115909Z
DTSTART:20260414T213000Z
DTEND:20260414T223000Z
TRANSP:TRANSPARENT
PRIORITY:0
SUMMARY:CO: Yoga & Mindfulness
LOCATION:Columbia South Gym
DESCRIPTION:Groups:\nEnrichment Class - Columbia\n\nSchools:\nColumbia Ele
 mentary School\n\nLocation:\nColumbia South Gym\n\n
URL;VALUE=URI:https://calendar.bellinghamschools.org/index.php?type=view&a
 ction=event&id=348756
CREATED:20260420T173127Z
LAST-MODIFIED:20260420T173127Z
UID:event-348756-bham@intand.com
END:VEVENT
END:VCALENDAR
