BEGIN:VCALENDAR
VERSION:2.0
PRODID:-//Intand Corporation//Tandem//EN
METHOD:PUBLISH
BEGIN:VEVENT
DTSTAMP:20260421T115936Z
DTSTART:20260428T213000Z
DTEND:20260428T223000Z
TRANSP:TRANSPARENT
PRIORITY:0
SUMMARY:CO:  Guitar
LOCATION:Columbia Room 14
DESCRIPTION:Groups:\nEnrichment Class - Columbia\n\nSchools:\nColumbia Ele
 mentary School\n\nLocation:\nColumbia Room 14\n\n
URL;VALUE=URI:https://calendar.bellinghamschools.org/index.php?type=view&a
 ction=event&id=348749
CREATED:20260420T172950Z
LAST-MODIFIED:20260420T172950Z
UID:event-348749-bham@intand.com
END:VEVENT
END:VCALENDAR
