BEGIN:VCALENDAR
VERSION:2.0
PRODID:-//Intand Corporation//Tandem//EN
METHOD:PUBLISH
BEGIN:VEVENT
DTSTAMP:20260421T115944Z
DTSTART:20260427T213000Z
DTEND:20260427T231500Z
TRANSP:TRANSPARENT
PRIORITY:0
SUMMARY:NH Girls on the Run
LOCATION:Northern Heights Elementary School
DESCRIPTION:Schools:\nNorthern Heights Elementary School\n\nLocation:\nNor
 thern Heights Elementary School\n\n
URL;VALUE=URI:https://calendar.bellinghamschools.org/index.php?type=view&a
 ction=event&id=348713
CREATED:20260420T165011Z
LAST-MODIFIED:20260420T190312Z
UID:event-348713-bham@intand.com
END:VEVENT
END:VCALENDAR
