BEGIN:VCALENDAR
VERSION:2.0
PRODID:-//Intand Corporation//Tandem//EN
METHOD:PUBLISH
BEGIN:VEVENT
DTSTAMP:20260421T115757Z
DTSTART:20260429T161500Z
DTEND:20260429T174500Z
TRANSP:TRANSPARENT
PRIORITY:0
SUMMARY:CO: Jacobs Prom K to Lightcatcher Museum
LOCATION:Whatcom Museum/Lightcatcher Building
DESCRIPTION:Schools:\nColumbia Elementary School\n\nLocation:\nWhatcom Mus
 eum/Lightcatcher Building\n\n
URL;VALUE=URI:https://calendar.bellinghamschools.org/index.php?type=view&a
 ction=event&id=348658
CREATED:20260417T174054Z
LAST-MODIFIED:20260417T174054Z
UID:event-348658-bham@intand.com
END:VEVENT
END:VCALENDAR
