BEGIN:VCALENDAR
VERSION:2.0
PRODID:-//Intand Corporation//Tandem//EN
METHOD:PUBLISH
BEGIN:VEVENT
DTSTAMP:20260421T120056Z
DTSTART:20260418T173000Z
DTEND:20260418T223000Z
TRANSP:TRANSPARENT
PRIORITY:0
SUMMARY:Bellingham Giants Game
LOCATION:Sehome Baseball Field
DESCRIPTION:Groups:\nBellingham Giants\n\nSchools:\nSehome High School\n\n
 Location:\nSehome Baseball Field\n\nrestrooms programmed kpk 4/17/26\n\n
URL;VALUE=URI:https://calendar.bellinghamschools.org/index.php?type=view&a
 ction=event&id=348645
CREATED:20260417T164110Z
LAST-MODIFIED:20260417T164110Z
UID:facility_rental-348645-bham@intand.com
END:VEVENT
END:VCALENDAR
