BEGIN:VCALENDAR
VERSION:2.0
PRODID:-//Intand Corporation//Tandem//EN
METHOD:PUBLISH
BEGIN:VEVENT
DTSTAMP:20260421T120057Z
DTSTART:20260424T165000Z
DTEND:20260424T173000Z
TRANSP:TRANSPARENT
PRIORITY:0
SUMMARY:SqHS 9th Grade Follow-up
LOCATION:Squalicum Gym
DESCRIPTION:Schools:\nSqualicum High School\n\nLocation:\nSqualicum Gym\n\n
URL;VALUE=URI:https://calendar.bellinghamschools.org/index.php?type=view&a
 ction=event&id=348627
CREATED:20260417T160129Z
LAST-MODIFIED:20260417T160129Z
UID:event-348627-bham@intand.com
END:VEVENT
END:VCALENDAR
