BEGIN:VCALENDAR
VERSION:2.0
PRODID:-//Intand Corporation//Tandem//EN
METHOD:PUBLISH
BEGIN:VEVENT
DTSTAMP:20260423T100909Z
DTSTART:20260423T143000Z
DTEND:20260423T170000Z
TRANSP:TRANSPARENT
PRIORITY:0
SUMMARY:Elementary ML PLC
LOCATION:District Office Room 202
DESCRIPTION:Schools:\nDistrict Office\n\nLocation:\nDistrict Office Room 2
 02\n\n
URL;VALUE=URI:https://calendar.bellinghamschools.org/index.php?type=view&a
 ction=event&id=348612
CREATED:20260416T184306Z
LAST-MODIFIED:20260416T184306Z
UID:event-348612-bham@intand.com
END:VEVENT
END:VCALENDAR
