BEGIN:VCALENDAR
VERSION:2.0
PRODID:-//Intand Corporation//Tandem//EN
METHOD:PUBLISH
BEGIN:VEVENT
DTSTAMP:20260422T141740Z
DTSTART:20260513T213000Z
DTEND:20260513T223000Z
TRANSP:TRANSPARENT
PRIORITY:0
SUMMARY:SUN-Kids Expressive Art
LOCATION:Sunnyland Classroom
DESCRIPTION:After school enrichment in room 216.\n\n\nSchools:\nSunnyland 
 Elementary School\n\nLocation:\nSunnyland Classroom\n\n
URL;VALUE=URI:https://calendar.bellinghamschools.org/index.php?type=view&a
 ction=event&id=348246
CREATED:20260414T185200Z
LAST-MODIFIED:20260414T185200Z
UID:event-348246-bham@intand.com
END:VEVENT
END:VCALENDAR
