BEGIN:VCALENDAR
VERSION:2.0
PRODID:-//Intand Corporation//Tandem//EN
METHOD:PUBLISH
BEGIN:VEVENT
DTSTAMP:20260423T113021Z
DTSTART:20260818T230000Z
DTEND:20260819T020000Z
TRANSP:TRANSPARENT
PRIORITY:0
SUMMARY:BHS Dance 
LOCATION:Sehome Gym Mat Room
DESCRIPTION:Schools:\nSehome High School\n\nLocation:\nSehome Gym Mat Room
 \n\n
URL;VALUE=URI:https://calendar.bellinghamschools.org/index.php?type=view&a
 ction=event&id=347355
CREATED:20260326T171212Z
LAST-MODIFIED:20260326T171212Z
UID:event-347355-bham@intand.com
END:VEVENT
END:VCALENDAR
