BEGIN:VCALENDAR
VERSION:2.0
PRODID:-//Intand Corporation//Tandem//EN
METHOD:PUBLISH
BEGIN:VEVENT
DTSTAMP:20260423T113817Z
DTSTART:20260813T170000Z
DTEND:20260813T190000Z
TRANSP:TRANSPARENT
PRIORITY:0
SUMMARY:BHS Dance 
LOCATION:Sehome Gym Mat Room
DESCRIPTION:Schools:\nSehome High School\n\nLocation:\nSehome Gym Mat Room
 \n\n
URL;VALUE=URI:https://calendar.bellinghamschools.org/index.php?type=view&a
 ction=event&id=347354
CREATED:20260326T171146Z
LAST-MODIFIED:20260326T171146Z
UID:event-347354-bham@intand.com
END:VEVENT
END:VCALENDAR
