BEGIN:VCALENDAR
VERSION:2.0
PRODID:-//Intand Corporation//Tandem//EN
METHOD:PUBLISH
BEGIN:VEVENT
DTSTAMP:20260421T095052Z
DTSTART:20260407T150000Z
DTEND:20260407T190000Z
TRANSP:TRANSPARENT
PRIORITY:0
SUMMARY:SqHS WATER OFF 8am to Noon
LOCATION:Squalicum High School
DESCRIPTION:Schools:\nSqualicum High School\n\nLocation:\nSqualicum High S
 chool\n\n
URL;VALUE=URI:https://calendar.bellinghamschools.org/index.php?type=view&a
 ction=event&id=344954
CREATED:20260213T174817Z
LAST-MODIFIED:20260213T174817Z
UID:event-344954-bham@intand.com
END:VEVENT
END:VCALENDAR
