BEGIN:VCALENDAR
VERSION:2.0
PRODID:-//Intand Corporation//Tandem//EN
METHOD:PUBLISH
BEGIN:VEVENT
DTSTAMP:20260421T120506Z
DTSTART:20260418T013000Z
DTEND:20260418T023000Z
TRANSP:TRANSPARENT
PRIORITY:0
SUMMARY:Bellingham Sonics
LOCATION:Kulshan Gym South
DESCRIPTION:Groups:\nBellingham Sonics\n\nSchools:\nKulshan Middle School\
 n\nLocation:\nKulshan Gym South\n\nPlease call Custodial at 360-383-8467 t
 o be let into the building. \n\n
URL;VALUE=URI:https://calendar.bellinghamschools.org/index.php?type=view&a
 ction=event&id=344825
CREATED:20260210T191057Z
LAST-MODIFIED:20260417T151748Z
UID:facility_rental-344825-bham@intand.com
END:VEVENT
END:VCALENDAR
