BEGIN:VCALENDAR
VERSION:2.0
PRODID:-//Intand Corporation//Tandem//EN
METHOD:PUBLISH
BEGIN:VEVENT
DTSTAMP:20260421T120505Z
DTSTART:20260413T213000Z
DTEND:20260413T223000Z
TRANSP:TRANSPARENT
PRIORITY:0
SUMMARY:PTO Spring Enrichment Begins
LOCATION:Parkview Classroom
DESCRIPTION:Schools:\nParkview Elementary School\n\nLocation:\nParkview Cl
 assroom\n\n
URL;VALUE=URI:https://calendar.bellinghamschools.org/index.php?type=view&a
 ction=event&id=344814
CREATED:20260210T185218Z
LAST-MODIFIED:20260210T185218Z
UID:event-344814-bham@intand.com
END:VEVENT
END:VCALENDAR
