BEGIN:VCALENDAR
VERSION:2.0
PRODID:-//Intand Corporation//Tandem//EN
METHOD:PUBLISH
BEGIN:VEVENT
DTSTAMP:20260421T120649Z
DTSTART:20260414T010000Z
DTEND:20260414T043000Z
TRANSP:TRANSPARENT
PRIORITY:0
SUMMARY:Bellingham Parks & Rec Volleyball Leagues
LOCATION:Parkview Gym
DESCRIPTION:Groups:\nCity of Bellingham Parks and Recreation\n\nSchools:\n
 Parkview Elementary School\n\nLocation:\nParkview Gym\n\nPlease call Custo
 dial at 360-383-8461 to be let into the building. \n\n
URL;VALUE=URI:https://calendar.bellinghamschools.org/index.php?type=view&a
 ction=event&id=344777
CREATED:20260209T235204Z
LAST-MODIFIED:20260209T235204Z
UID:facility_rental-344777-bham@intand.com
END:VEVENT
END:VCALENDAR
