BEGIN:VCALENDAR
VERSION:2.0
PRODID:-//Intand Corporation//Tandem//EN
METHOD:PUBLISH
BEGIN:VEVENT
DTSTAMP:20260421T120607Z
DTSTART:20260424T020000Z
DTEND:20260424T040000Z
TRANSP:TRANSPARENT
PRIORITY:0
SUMMARY:Apex NW
LOCATION:Kulshan Gym North\, Kulshan Gym South
DESCRIPTION:Groups:\nApex NW\n\nSchools:\nKulshan Middle School\n\nLocatio
 ns:\nKulshan Gym North\nKulshan Gym South\n\n
URL;VALUE=URI:https://calendar.bellinghamschools.org/index.php?type=view&a
 ction=event&id=342515
CREATED:20260126T152917Z
LAST-MODIFIED:20260126T174527Z
UID:facility_rental-342515-bham@intand.com
END:VEVENT
END:VCALENDAR
