BEGIN:VCALENDAR
VERSION:2.0
PRODID:-//Intand Corporation//Tandem//EN
METHOD:PUBLISH
BEGIN:VEVENT
DTSTAMP:20260421T120521Z
DTSTART:20260423T010000Z
DTEND:20260423T040000Z
TRANSP:TRANSPARENT
PRIORITY:0
SUMMARY:Apex NW
LOCATION:Kulshan Gym North\, Kulshan Gym South
DESCRIPTION:Groups:\nApex NW\n\nSchools:\nKulshan Middle School\n\nLocatio
 ns:\nKulshan Gym North\nKulshan Gym South\n\n
URL;VALUE=URI:https://calendar.bellinghamschools.org/index.php?type=view&a
 ction=event&id=342447
CREATED:20260126T151349Z
LAST-MODIFIED:20260417T161650Z
UID:facility_rental-342447-bham@intand.com
END:VEVENT
END:VCALENDAR
