BEGIN:VCALENDAR
VERSION:2.0
PRODID:-//Intand Corporation//Tandem//EN
METHOD:PUBLISH
BEGIN:VEVENT
DTSTAMP:20260421T100956Z
DTSTART:20260416T010000Z
DTEND:20260416T021500Z
TRANSP:TRANSPARENT
PRIORITY:0
SUMMARY:[Cancelled] Larrabee Springs HOA Meeting
LOCATION:Cordata Library
DESCRIPTION:Groups:\nLarrabee Springs HOA \n\nSchools:\nCordata Elementary
  School\n\nLocation:\nCordata Library\n\n
URL;VALUE=URI:https://calendar.bellinghamschools.org/index.php?type=view&a
 ction=event&id=341954
CREATED:20260120T210210Z
LAST-MODIFIED:20260413T204039Z
UID:facility_rental-341954-bham@intand.com
END:VEVENT
END:VCALENDAR
