BEGIN:VCALENDAR
VERSION:2.0
PRODID:-//Intand Corporation//Tandem//EN
METHOD:PUBLISH
BEGIN:VEVENT
DTSTAMP:20260422T113304Z
DTSTART:20250311T150000Z
DTEND:20250311T163000Z
TRANSP:TRANSPARENT
PRIORITY:0
SUMMARY:DO 202: Mental Health Team/SST Meeting
LOCATION:District Office Room 202
DESCRIPTION:Collaborative meeting time with mental health and SpEd team. N
 o set up or breakdown support needed. Thank you!\n\nClover\n\n\nSchools:\n
 District Office\n\nLocation:\nDistrict Office Room 202\n\n
X-ALT-DESC;FMTTYPE=text/html:<!doctype html><html><body>Collaborative meet
 ing time with mental health and SpEd team. No set up or breakdown support 
 needed. Thank you!</p><p>Clover<br /><br />Schools:<br />District Office<b
 r /><br />Location:<br />District Office Room 202<br /></body></html>
URL;VALUE=URI:https://calendar.bellinghamschools.org/index.php?type=view&a
 ction=event&id=316571
CREATED:20250224T161208Z
LAST-MODIFIED:20250224T161208Z
UID:event-316571-bham@intand.com
END:VEVENT
END:VCALENDAR
