BEGIN:VCALENDAR
VERSION:2.0
PRODID:-//Intand Corporation//Tandem//EN
METHOD:PUBLISH
BEGIN:VEVENT
DTSTAMP:20260420T195731Z
DTSTART:20250211T223000Z
DTEND:20250211T233000Z
TRANSP:TRANSPARENT
PRIORITY:0
SUMMARY:SUN-Spanish Grades K-2
LOCATION:Sunnyland Classroom
DESCRIPTION:After school enrichment in room 215\n\n\nSchools:\nSunnyland E
 lementary School\n\nLocation:\nSunnyland Classroom\n\n
URL;VALUE=URI:https://calendar.bellinghamschools.org/index.php?type=view&a
 ction=event&id=311880
CREATED:20250106T173404Z
LAST-MODIFIED:20250106T173404Z
UID:event-311880-bham@intand.com
END:VEVENT
END:VCALENDAR
