BEGIN:VCALENDAR
VERSION:2.0
PRODID:-//Intand Corporation//Tandem//EN
METHOD:PUBLISH
BEGIN:VEVENT
DTSTAMP:20260421T110052Z
DTSTART:20250326T010000Z
DTEND:20250326T031500Z
TRANSP:TRANSPARENT
PRIORITY:0
SUMMARY:Birchwood Neighborhood Association Community Meeting
LOCATION:Birchwood Library
DESCRIPTION:Groups:\nBirchwood Neighborhood Association\n\nSchools:\nBirch
 wood Elementary School\n\nLocation:\nBirchwood Library\n\n
URL;VALUE=URI:https://calendar.bellinghamschools.org/index.php?type=view&a
 ction=event&id=311777
CREATED:20250103T020111Z
LAST-MODIFIED:20250407T180635Z
UID:facility_rental-311777-bham@intand.com
END:VEVENT
END:VCALENDAR
