BEGIN:VCALENDAR
VERSION:2.0
PRODID:-//Intand Corporation//Tandem//EN
METHOD:PUBLISH
BEGIN:VEVENT
DTSTAMP:20260422T113720Z
DTSTART:20250313T192000Z
DTEND:20250313T202000Z
TRANSP:TRANSPARENT
PRIORITY:0
SUMMARY:NH Martial Arts (1st-5th)
LOCATION:Northern Heights Elementary School
DESCRIPTION:Schools:\nNorthern Heights Elementary School\n\nLocation:\nNor
 thern Heights Elementary School\n\n
URL;VALUE=URI:https://calendar.bellinghamschools.org/index.php?type=view&a
 ction=event&id=311473
CREATED:20241220T210400Z
LAST-MODIFIED:20241220T210400Z
UID:event-311473-bham@intand.com
END:VEVENT
END:VCALENDAR
