BEGIN:VCALENDAR
VERSION:2.0
PRODID:-//Intand Corporation//Tandem//EN
METHOD:PUBLISH
BEGIN:VEVENT
DTSTAMP:20260421T110622Z
DTSTART:20250207T000000Z
DTEND:20250207T010000Z
TRANSP:TRANSPARENT
PRIORITY:0
SUMMARY:BHS Commons: MS Volleyball Officials/Line Judges Training
LOCATION:Bellingham Multicultural Center
DESCRIPTION:Schools:\nBellingham High School\n\nLocation:\nBellingham Mult
 icultural Center\n\n
URL;VALUE=URI:https://calendar.bellinghamschools.org/index.php?type=view&a
 ction=event&id=311184
CREATED:20241216T194926Z
LAST-MODIFIED:20250206T171145Z
UID:event-311184-bham@intand.com
END:VEVENT
END:VCALENDAR
