BEGIN:VCALENDAR
VERSION:2.0
PRODID:-//Intand Corporation//Tandem//EN
METHOD:PUBLISH
BEGIN:VEVENT
DTSTAMP:20260422T114145Z
DTSTART:20250122T013000Z
DTEND:20250122T043000Z
TRANSP:TRANSPARENT
PRIORITY:0
SUMMARY:Rangers soccer practice
LOCATION:Sehome Soccer Field
DESCRIPTION:Groups:\nWhatcom Rangers\n\nSchools:\nSehome High School\n\nLo
 cation:\nSehome Soccer Field\n\nlights and restrooms programmed kpk 1/6/25
 \n\n
URL;VALUE=URI:https://calendar.bellinghamschools.org/index.php?type=view&a
 ction=event&id=308670
CREATED:20241105T220919Z
LAST-MODIFIED:20250205T190449Z
UID:facility_rental-308670-bham@intand.com
END:VEVENT
END:VCALENDAR
