BEGIN:VCALENDAR
VERSION:2.0
PRODID:-//Intand Corporation//Tandem//EN
METHOD:PUBLISH
BEGIN:VEVENT
DTSTAMP:20260422T112628Z
DTSTART:20241120T020000Z
DTEND:20241120T050000Z
TRANSP:TRANSPARENT
PRIORITY:0
SUMMARY:Apex NW
LOCATION:Shuksan Gym - Old
DESCRIPTION:Groups:\nApex NW\n\nSchools:\nShuksan Middle School\n\nLocatio
 n:\nShuksan Gym - Old\n\n
URL;VALUE=URI:https://calendar.bellinghamschools.org/index.php?type=view&a
 ction=event&id=301811
CREATED:20240916T174426Z
LAST-MODIFIED:20240917T192139Z
UID:facility_rental-301811-bham@intand.com
END:VEVENT
END:VCALENDAR
