BEGIN:VCALENDAR
VERSION:2.0
PRODID:-//Intand Corporation//Tandem//EN
METHOD:PUBLISH
BEGIN:VEVENT
DTSTAMP:20260422T114048Z
DTSTART:20241010T020000Z
DTEND:20241010T033000Z
TRANSP:TRANSPARENT
PRIORITY:0
SUMMARY:BHS: Varsity Volleyball Game
LOCATION:Bellingham Gym
DESCRIPTION:BHS: Varsity Volleyball vs Squalicum High\n\n\nSchools:\nBelli
 ngham High School\n\nLocation:\nBellingham Gym\n\n
URL;VALUE=URI:https://calendar.bellinghamschools.org/index.php?type=view&a
 ction=event&id=299680
CREATED:20240912T193056Z
LAST-MODIFIED:20240912T193056Z
UID:event-299680-bham@intand.com
END:VEVENT
END:VCALENDAR
