BEGIN:VCALENDAR
VERSION:2.0
PRODID:-//Intand Corporation//Tandem//EN
METHOD:PUBLISH
BEGIN:VEVENT
DTSTAMP:20260422T114145Z
DTSTART;VALUE=DATE:20250315
DTEND;VALUE=DATE:20250316
TRANSP:TRANSPARENT
PRIORITY:0
SUMMARY:Mazur - Gymnastics
LOCATION:Cordata Gym
DESCRIPTION:Schools:\nCordata Elementary School\n\nLocation:\nCordata Gym\
 n\n
URL;VALUE=URI:https://calendar.bellinghamschools.org/index.php?type=view&a
 ction=event&id=298738
CREATED:20240905T181143Z
LAST-MODIFIED:20240905T181143Z
UID:event-298738-bham@intand.com
END:VEVENT
END:VCALENDAR
