BEGIN:VCALENDAR
VERSION:2.0
PRODID:-//Intand Corporation//Tandem//EN
METHOD:PUBLISH
BEGIN:VEVENT
DTSTAMP:20260422T112457Z
DTSTART:20241031T151000Z
DTEND:20241031T160000Z
TRANSP:TRANSPARENT
PRIORITY:0
SUMMARY:SMS TSA Club
LOCATION:Shuksan Middle School
DESCRIPTION:Schools:\nShuksan Middle School\n\nLocation:\nShuksan Middle S
 chool\n\n
URL;VALUE=URI:https://calendar.bellinghamschools.org/index.php?type=view&a
 ction=event&id=298385
CREATED:20240830T142230Z
LAST-MODIFIED:20240830T142230Z
UID:event-298385-bham@intand.com
END:VEVENT
END:VCALENDAR
