BEGIN:VCALENDAR
VERSION:2.0
PRODID:-//Intand Corporation//Tandem//EN
METHOD:PUBLISH
BEGIN:VEVENT
DTSTAMP:20260422T155058Z
DTSTART:20240919T223000Z
DTEND:20240920T010000Z
TRANSP:TRANSPARENT
PRIORITY:0
SUMMARY:BHS:  PAC booked for Play Performance Preparation 
LOCATION:Bellingham PAC
DESCRIPTION:Schools:\nBellingham High School\n\nLocation:\nBellingham PAC\
 n\n
URL;VALUE=URI:https://calendar.bellinghamschools.org/index.php?type=view&a
 ction=event&id=296107
CREATED:20240701T162246Z
LAST-MODIFIED:20241001T192835Z
UID:event-296107-bham@intand.com
END:VEVENT
END:VCALENDAR
