BEGIN:VCALENDAR
VERSION:2.0
PRODID:-//Intand Corporation//Tandem//EN
METHOD:PUBLISH
BEGIN:VEVENT
DTSTAMP:20260422T112952Z
DTSTART;VALUE=DATE:20250108
DTEND;VALUE=DATE:20250109
TRANSP:TRANSPARENT
PRIORITY:0
SUMMARY:A Day
DESCRIPTION:Key Date\n\nSchools:\nShuksan Middle School\nSehome High Schoo
 l\nSqualicum High School\nWhatcom Middle School\nFairhaven Middle School\n
 Kulshan Middle School\nBellingham High School\n\n
URL;VALUE=URI:https://calendar.bellinghamschools.org/index.php?type=key_da
 te&action=details&id=294724
CREATED:20240617T190201Z
LAST-MODIFIED:20240617T190201Z
UID:keydate-294724-bham@intand.com
END:VEVENT
END:VCALENDAR
