BEGIN:VCALENDAR
VERSION:2.0
PRODID:-//Intand Corporation//Tandem//EN
METHOD:PUBLISH
BEGIN:VEVENT
DTSTAMP:20260422T082812Z
DTSTART;VALUE=DATE:20240829
DTEND;VALUE=DATE:20240830
TRANSP:TRANSPARENT
PRIORITY:0
SUMMARY:Class Rep Signups
LOCATION:Sehome Athletics Office
DESCRIPTION:Schools:\nSehome High School\n\nLocation:\nSehome Athletics Of
 fice\n\n
URL;VALUE=URI:https://calendar.bellinghamschools.org/index.php?type=view&a
 ction=event&id=294633
CREATED:20240617T153850Z
LAST-MODIFIED:20240617T153850Z
UID:event-294633-bham@intand.com
END:VEVENT
END:VCALENDAR
