BEGIN:VCALENDAR
VERSION:2.0
PRODID:-//Intand Corporation//Tandem//EN
METHOD:PUBLISH
BEGIN:VEVENT
DTSTAMP:20260422T113714Z
DTSTART;VALUE=DATE:20240502
DTEND;VALUE=DATE:20240503
TRANSP:TRANSPARENT
PRIORITY:0
SUMMARY:Field closed for repair 
LOCATION:Wade King Grass Field
DESCRIPTION:Schools:\nWade King Elementary School\n\nLocation:\nWade King 
 Grass Field\n\n
URL;VALUE=URI:https://calendar.bellinghamschools.org/index.php?type=view&a
 ction=event&id=291145
CREATED:20240327T201854Z
LAST-MODIFIED:20240327T201854Z
UID:event-291145-bham@intand.com
END:VEVENT
END:VCALENDAR
