BEGIN:VCALENDAR
VERSION:2.0
PRODID:-//Intand Corporation//Tandem//EN
METHOD:PUBLISH
BEGIN:VEVENT
DTSTAMP:20260422T084157Z
DTSTART:20240815T153000Z
DTEND:20240815T223000Z
TRANSP:TRANSPARENT
PRIORITY:0
SUMMARY:Apex NW
LOCATION:Shuksan Gym - Old\, Shuksan Gym - New
DESCRIPTION:Groups:\nApex NW\n\nSchools:\nShuksan Middle School\n\nLocatio
 ns:\nShuksan Gym - Old\nShuksan Gym - New\n\n
URL;VALUE=URI:https://calendar.bellinghamschools.org/index.php?type=view&a
 ction=event&id=289482
CREATED:20240308T210548Z
LAST-MODIFIED:20240709T215509Z
UID:facility_rental-289482-bham@intand.com
END:VEVENT
END:VCALENDAR
