BEGIN:VCALENDAR
VERSION:2.0
PRODID:-//Intand Corporation//Tandem//EN
METHOD:PUBLISH
BEGIN:VEVENT
DTSTAMP:20260422T112302Z
DTSTART:20240402T221500Z
DTEND:20240403T003000Z
TRANSP:TRANSPARENT
PRIORITY:0
SUMMARY:SqHS Track Practice
LOCATION:Squalicum Football Field/Track
DESCRIPTION:Schools:\nSqualicum High School\n\nLocation:\nSqualicum Footba
 ll Field/Track\n\n
URL;VALUE=URI:https://calendar.bellinghamschools.org/index.php?type=view&a
 ction=event&id=287724
CREATED:20240216T203112Z
LAST-MODIFIED:20240216T211506Z
UID:event-287724-bham@intand.com
END:VEVENT
END:VCALENDAR
