BEGIN:VCALENDAR
VERSION:2.0
PRODID:-//Intand Corporation//Tandem//EN
METHOD:PUBLISH
BEGIN:VEVENT
DTSTAMP:20260422T112444Z
DTSTART:20240502T221500Z
DTEND:20240503T040000Z
TRANSP:TRANSPARENT
PRIORITY:0
SUMMARY:SqHS Girls Tennis Practice
LOCATION:Squalicum Tennis Courts
DESCRIPTION:Schools:\nSqualicum High School\n\nLocation:\nSqualicum Tennis
  Courts\n\n
URL;VALUE=URI:https://calendar.bellinghamschools.org/index.php?type=view&a
 ction=event&id=287682
CREATED:20240216T201925Z
LAST-MODIFIED:20240216T201925Z
UID:event-287682-bham@intand.com
END:VEVENT
END:VCALENDAR
