BEGIN:VCALENDAR
VERSION:2.0
PRODID:-//Intand Corporation//Tandem//EN
METHOD:PUBLISH
BEGIN:VEVENT
DTSTAMP:20260422T082821Z
DTSTART:20240201T033000Z
DTEND:20240201T050000Z
TRANSP:TRANSPARENT
PRIORITY:0
SUMMARY:BHS - BBC Practice
LOCATION:Bellingham Gym
DESCRIPTION:Groups:\nBayhawk Basketball Club\n\nSchools:\nBellingham High 
 School\n\nLocation:\nBellingham Gym\n\n
URL;VALUE=URI:https://calendar.bellinghamschools.org/index.php?type=view&a
 ction=event&id=279574
CREATED:20231017T203107Z
LAST-MODIFIED:20231017T211934Z
UID:facility_rental-279574-bham@intand.com
END:VEVENT
END:VCALENDAR
