BEGIN:VCALENDAR
VERSION:2.0
PRODID:-//Intand Corporation//Tandem//EN
METHOD:PUBLISH
BEGIN:VEVENT
DTSTAMP:20260421T083256Z
DTSTART:20231208T160000Z
DTEND:20231208T173000Z
TRANSP:TRANSPARENT
PRIORITY:0
SUMMARY:DO 212: Secondary Coach Meeting
LOCATION:District Office Conference Room 212
DESCRIPTION:Schools:\nDistrict Office\n\nLocation:\nDistrict Office Confer
 ence Room 212\n\n
URL;VALUE=URI:https://calendar.bellinghamschools.org/index.php?type=view&a
 ction=event&id=277357
CREATED:20230929T175348Z
LAST-MODIFIED:20230929T175348Z
UID:event-277357-bham@intand.com
END:VEVENT
END:VCALENDAR
