BEGIN:VCALENDAR
VERSION:2.0
PRODID:-//Intand Corporation//Tandem//EN
METHOD:PUBLISH
BEGIN:VEVENT
DTSTAMP:20260422T112705Z
DTSTART:20240501T000000Z
DTEND:20240501T010000Z
TRANSP:TRANSPARENT
PRIORITY:0
SUMMARY:Dinner Program
LOCATION:Shuksan Cafeteria
DESCRIPTION:Schools:\nShuksan Middle School\n\nLocation:\nShuksan Cafeteri
 a\n\n
URL;VALUE=URI:https://calendar.bellinghamschools.org/index.php?type=view&a
 ction=event&id=270702
CREATED:20230911T180732Z
LAST-MODIFIED:20230911T180732Z
UID:event-270702-bham@intand.com
END:VEVENT
END:VCALENDAR
