BEGIN:VCALENDAR
VERSION:2.0
PRODID:-//Intand Corporation//Tandem//EN
METHOD:PUBLISH
BEGIN:VEVENT
DTSTAMP:20260421T105759Z
DTSTART;VALUE=DATE:20240326
DTEND;VALUE=DATE:20240327
TRANSP:TRANSPARENT
PRIORITY:0
SUMMARY:Balance Bikes in Gym
LOCATION:Birchwood Gym\, Northern Heights Gym
DESCRIPTION:Schools:\nNorthern Heights Elementary School\nBirchwood Elemen
 tary School\n\nLocations:\nBirchwood Gym\nNorthern Heights Gym\n\n
URL;VALUE=URI:https://calendar.bellinghamschools.org/index.php?type=view&a
 ction=event&id=270434
CREATED:20230908T225718Z
LAST-MODIFIED:20230908T225718Z
UID:event-270434-bham@intand.com
END:VEVENT
END:VCALENDAR
