BEGIN:VCALENDAR
VERSION:2.0
PRODID:-//Intand Corporation//Tandem//EN
METHOD:PUBLISH
BEGIN:VEVENT
DTSTAMP:20260421T112229Z
DTSTART;VALUE=DATE:20240228
DTEND;VALUE=DATE:20240229
TRANSP:TRANSPARENT
PRIORITY:0
SUMMARY:A Day
DESCRIPTION:Key Date\n\nSchools:\nShuksan Middle School\nSehome High Schoo
 l\nSqualicum High School\nWhatcom Middle School\nFairhaven Middle School\n
 Kulshan Middle School\nBellingham High School\n\n
URL;VALUE=URI:https://calendar.bellinghamschools.org/index.php?type=key_da
 te&action=details&id=265736
CREATED:20230705T183411Z
LAST-MODIFIED:20230705T183956Z
UID:keydate-265736-bham@intand.com
END:VEVENT
END:VCALENDAR
