BEGIN:VCALENDAR
VERSION:2.0
PRODID:-//Intand Corporation//Tandem//EN
METHOD:PUBLISH
BEGIN:VEVENT
DTSTAMP:20260421T083155Z
DTSTART;VALUE=DATE:20230805
DTEND;VALUE=DATE:20230806
TRANSP:TRANSPARENT
PRIORITY:0
SUMMARY:COR- Gym Floor Refinishing 
LOCATION:Cordata Gym
DESCRIPTION:Schools:\nCordata Elementary School\n\nLocation:\nCordata Gym\
 n\n
URL;VALUE=URI:https://calendar.bellinghamschools.org/index.php?type=view&a
 ction=event&id=262122
CREATED:20230509T173110Z
LAST-MODIFIED:20230509T173110Z
UID:event-262122-bham@intand.com
END:VEVENT
END:VCALENDAR
