BEGIN:VCALENDAR
VERSION:2.0
PRODID:-//Intand Corporation//Tandem//EN
METHOD:PUBLISH
BEGIN:VEVENT
DTSTAMP:20260422T112811Z
DTSTART:20230510T013000Z
DTEND:20230510T023000Z
TRANSP:TRANSPARENT
PRIORITY:0
SUMMARY:5th Grade Parent Information Night
LOCATION:Fairhaven Commons
DESCRIPTION:Presented by Fairhaven Middle School counselors & administrato
 rs\, an optional self-guided tour is available from 6:00-6:30.\n\nSchools:
 \nFairhaven Middle School\n\nLocation:\nFairhaven Commons\n\n
URL;VALUE=URI:https://calendar.bellinghamschools.org/index.php?type=view&a
 ction=event&id=260146
CREATED:20230410T184235Z
LAST-MODIFIED:20230410T184235Z
UID:event-260146-bham@intand.com
END:VEVENT
END:VCALENDAR
