BEGIN:VCALENDAR
VERSION:2.0
PRODID:-//Intand Corporation//Tandem//EN
METHOD:PUBLISH
BEGIN:VEVENT
DTSTAMP:20260421T105150Z
DTSTART:20230516T230000Z
DTEND:20230517T004500Z
TRANSP:TRANSPARENT
PRIORITY:0
SUMMARY:SHUKSAN Unified soccer practice
LOCATION:Shuksan Portables Field
DESCRIPTION:Schools:\nShuksan Middle School\n\nLocation:\nShuksan Portable
 s Field\n\n
URL;VALUE=URI:https://calendar.bellinghamschools.org/index.php?type=view&a
 ction=event&id=259747
CREATED:20230328T215901Z
LAST-MODIFIED:20230328T215901Z
UID:event-259747-bham@intand.com
END:VEVENT
END:VCALENDAR
