BEGIN:VCALENDAR
VERSION:2.0
PRODID:-//Intand Corporation//Tandem//EN
METHOD:PUBLISH
BEGIN:VEVENT
DTSTAMP:20260422T113913Z
DTSTART:20230530T153000Z
DTEND:20230530T163000Z
TRANSP:TRANSPARENT
PRIORITY:0
SUMMARY:DO 212: School Support Team
LOCATION:District Office Conference Room 212
DESCRIPTION:Groups:\nCentral Services\, Special Education\n\nSchools:\nDis
 trict Office\n\nLocation:\nDistrict Office Conference Room 212\n\n
URL;VALUE=URI:https://calendar.bellinghamschools.org/index.php?type=view&a
 ction=event&id=249115
CREATED:20221024T234358Z
LAST-MODIFIED:20221024T234358Z
UID:event-249115-bham@intand.com
END:VEVENT
END:VCALENDAR
